Workbook

Sheet SUMMARY
A2: Project ID: | B2: RED RUN PARK - RESTROOM
A4: Project Address:
A6: No. of Floors: | B6: 1
A8: Building GSF
A10: Date
A12: DIVISION NO. | B12: DESCRIPTION | C12: TOTAL DIV. COST | D12: TOTAL DIV. COST (PER SF)
A13: 1000 | B13: Janitorial Services | C13: ='BASE BID'!P41 -> 430279.8 | D13: =C13/$B$10 -> #DIV/0!
A14: PROJECTED COST | C14: =SUM(C13:C13) -> 430279.8 | D14: =SUM(D13:D13) -> #DIV/0!
A16: OVERHEAD AND PROFIT | B16: 0.2 | C16: =$C$14*B16 -> 86055.96 | D16: =$D$14*B16 -> #DIV/0!
A17: INSURANCE | B17: 0.03 | C17: =$C$14*B17 -> 12908.394 | D17: =$D$14*B17 -> #DIV/0!
A18: CONTINGENCY | B18: 0.05 | C18: =$C$14*B18 -> 21513.99 | D18: =$D$14*B18 -> #DIV/0!
A19: SUGGESTED BASE BID | C19: =SUM(C14:C18) -> 550758.15 | D19: =SUM(D14:D18) -> #DIV/0!

Sheet BASE BID
A3: Project: | B3: =SUMMARY!B2 -> RED RUN PARK - RESTROOM
A5: Address:
A7: Scope: | B7: JANITORIAL SERVICES
A9: Date:
A10: SR # | B10: REF | C10: DESCRIPTION | D10: QUANTITY | E10: UNIT | F10: WASTAGE | G10: QUANTITY W/ WASTAGE | H10: LABOR HOURS | I10: WAGES | J10: TOTAL LABOR HOUR | K10: TOTAL LABOUR COST | L10: MATERIAL RATE | M10: TOTAL MATETRIAL COST | N10: EQUIPMENT RATE | O10: TOTAL EQUIPMENT COSTS | P10: SUB COST
B11: JANITORIAL SERVICES
A12: =IF(E12=0,"",1+MAX(A10:A11)) | C12: Daily Janitorial Services
A13: 1 | C13: Floor Cleaning | D13: 2615 | E13: SF | F13: =IF(VLOOKUP(E13,'UNITS & WASTAGE'!B$3:C$16,2,0)=0,$F$2,VLOOKUP(E13,'UNITS & WASTAGE'!B$3:C$16,2,0)) -> 0.1 | G13: =(F13*D13)+D13 -> 2876.5 | H13: =0.0018*(730) -> 1.314 | I13: 34.15 | J13: =H13*G13 -> 3779.721 | K13: =I13*J13 -> 129077.47 | L13: =0.01*(730) -> 7.3 | M13: =L13*G13 -> 20998.45 | N13: 0 | O13: =N13*G13 -> 0 | P13: =IF(D13="","",(K13+M13+O13)) -> 150075.92
A14: =IF(E14=0,"",1+MAX(A12:A13)) -> 2 | C14: Wall Cleaning Interior Face | D14: 2048 | E14: SF | F14: =IF(VLOOKUP(E14,'UNITS & WASTAGE'!B$3:C$16,2,0)=0,$F$2,VLOOKUP(E14,'UNITS & WASTAGE'!B$3:C$16,2,0)) -> 0.1 | G14: =(F14*D14)+D14 -> 2252.8 | H14: =0.0012*(730) -> 0.876 | I14: 34.15 | J14: =H14*G14 -> 1973.4528 | K14: =I14*J14 -> 67393.413 | L14: =0.008*(730) -> 5.84 | M14: =L14*G14 -> 13156.352 | N14: 0 | O14: =N14*G14 -> 0 | P14: =IF(D14="","",(K14+M14+O14)) -> 80549.765
A15: =IF(E15=0,"",1+MAX(A13:A14)) -> 3 | C15: Door Cleaning | D15: 4 | E15: EA | F15: =IF(VLOOKUP(E15,'UNITS & WASTAGE'!B$3:C$16,2,0)=0,$F$2,VLOOKUP(E15,'UNITS & WASTAGE'!B$3:C$16,2,0)) -> 0 | G15: =(F15*D15)+D15 -> 4 | H15: =0.12*(730) -> 87.6 | I15: 34.15 | J15: =H15*G15 -> 350.4 | K15: =I15*J15 -> 11966.16 | L15: =0.08*(730) -> 58.4 | M15: =L15*G15 -> 233.6 | N15: 0 | O15: =N15*G15 -> 0 | P15: =IF(D15="","",(K15+M15+O15)) -> 12199.76
A16: =IF(E16=0,"",1+MAX(A14:A15)) -> 4 | C16: Bath Partitions Cleaning | D16: 600 | E16: SF | F16: =IF(VLOOKUP(E16,'UNITS & WASTAGE'!B$3:C$16,2,0)=0,$F$2,VLOOKUP(E16,'UNITS & WASTAGE'!B$3:C$16,2,0)) -> 0.1 | G16: =(F16*D16)+D16 -> 660 | H16: =0.0015*(730) -> 1.095 | I16: 34.15 | J16: =H16*G16 -> 722.7 | K16: =I16*J16 -> 24680.205 | L16: =0.01*(730) -> 7.3 | M16: =L16*G16 -> 4818 | N16: 0 | O16: =N16*G16 -> 0 | P16: =IF(D16="","",(K16+M16+O16)) -> 29498.205
A17: =IF(E17=0,"",1+MAX(A15:A16)) -> 5 | C17: Urinal Screen Cleaning | D17: 30 | E17: SF | F17: =IF(VLOOKUP(E17,'UNITS & WASTAGE'!B$3:C$16,2,0)=0,$F$2,VLOOKUP(E17,'UNITS & WASTAGE'!B$3:C$16,2,0)) -> 0.1 | G17: =(F17*D17)+D17 -> 33 | H17: =0.0015*(730) -> 1.095 | I17: 34.15 | J17: =H17*G17 -> 36.135 | K17: =I17*J17 -> 1234.0102 | L17: =0.01*(730) -> 7.3 | M17: =L17*G17 -> 240.9 | N17: 0 | O17: =N17*G17 -> 0 | P17: =IF(D17="","",(K17+M17+O17)) -> 1474.9102
A18: =IF(E18=0,"",1+MAX(A16:A17)) -> 6 | C18: Cleaning & Sanitizing Toilets | D18: 7 | E18: EA | F18: =IF(VLOOKUP(E18,'UNITS & WASTAGE'!B$3:C$16,2,0)=0,$F$2,VLOOKUP(E18,'UNITS & WASTAGE'!B$3:C$16,2,0)) -> 0 | G18: =(F18*D18)+D18 -> 7 | H18: =0.2*(730) -> 146 | I18: 34.15 | J18: =H18*G18 -> 1022 | K18: =I18*J18 -> 34901.3 | L18: =0.1*(730) -> 73 | M18: =L18*G18 -> 511 | N18: 0 | O18: =N18*G18 -> 0 | P18: =IF(D18="","",(K18+M18+O18)) -> 35412.3
A19: =IF(E19=0,"",1+MAX(A17:A18)) -> 7 | C19: Cleaning & Sanitizing Urinals | D19: 2 | E19: EA | F19: =IF(VLOOKUP(E19,'UNITS & WASTAGE'!B$3:C$16,2,0)=0,$F$2,VLOOKUP(E19,'UNITS & WASTAGE'!B$3:C$16,2,0)) -> 0 | G19: =(F19*D19)+D19 -> 2 | H19: =0.18*(730) -> 131.4 | I19: 34.15 | J19: =H19*G19 -> 262.8 | K19: =I19*J19 -> 8974.62 | L19: =0.1*(730) -> 73 | M19: =L19*G19 -> 146 | N19: 0 | O19: =N19*G19 -> 0 | P19: =IF(D19="","",(K19+M19+O19)) -> 9120.62
A20: =IF(E20=0,"",1+MAX(A18:A19)) -> 8 | C20: Cleaning & Sanitizing Sinks | D20: 5 | E20: EA | F20: =IF(VLOOKUP(E20,'UNITS & WASTAGE'!B$3:C$16,2,0)=0,$F$2,VLOOKUP(E20,'UNITS & WASTAGE'!B$3:C$16,2,0)) -> 0 | G20: =(F20*D20)+D20 -> 5 | H20: =0.15*(730) -> 109.5 | I20: 34.15 | J20: =H20*G20 -> 547.5 | K20: =I20*J20 -> 18697.125 | L20: =0.1*(730) -> 73 | M20: =L20*G20 -> 365 | N20: 0 | O20: =N20*G20 -> 0 | P20: =IF(D20="","",(K20+M20+O20)) -> 19062.125
A21: =IF(E21=0,"",1+MAX(A19:A20)) -> 9 | C21: Cleaning & Sanitizing Drinking Fountain | D21: 2 | E21: EA | F21: =IF(VLOOKUP(E21,'UNITS & WASTAGE'!B$3:C$16,2,0)=0,$F$2,VLOOKUP(E21,'UNITS & WASTAGE'!B$3:C$16,2,0)) -> 0 | G21: =(F21*D21)+D21 -> 2 | H21: =0.15*(730) -> 109.5 | I21: 34.15 | J21: =H21*G21 -> 219 | K21: =I21*J21 -> 7478.85 | L21: =0.1*(730) -> 73 | M21: =L21*G21 -> 146 | N21: 0 | O21: =N21*G21 -> 0 | P21: =IF(D21="","",(K21+M21+O21)) -> 7624.85
A22: =IF(E22=0,"",1+MAX(A20:A21)) -> 10 | C22: Cleaning Mirrors | D22: 5 | E22: EA | F22: =IF(VLOOKUP(E22,'UNITS & WASTAGE'!B$3:C$16,2,0)=0,$F$2,VLOOKUP(E22,'UNITS & WASTAGE'!B$3:C$16,2,0)) -> 0 | G22: =(F22*D22)+D22 -> 5 | H22: =0.08*(730) -> 58.4 | I22: 34.15 | J22: =H22*G22 -> 292 | K22: =I22*J22 -> 9971.8 | L22: =0.05*(730) -> 36.5 | M22: =L22*G22 -> 182.5 | N22: 0 | O22: =N22*G22 -> 0 | P22: =IF(D22="","",(K22+M22+O22)) -> 10154.3
A23: =IF(E23=0,"",1+MAX(A21:A22)) -> 11 | C23: Emptying Trash Receptacle | D23: 9 | E23: EA | F23: =IF(VLOOKUP(E23,'UNITS & WASTAGE'!B$3:C$16,2,0)=0,$F$2,VLOOKUP(E23,'UNITS & WASTAGE'!B$3:C$16,2,0)) -> 0 | G23: =(F23*D23)+D23 -> 9 | H23: =0.07*(730) -> 51.1 | I23: 34.15 | J23: =H23*G23 -> 459.9 | K23: =I23*J23 -> 15705.585 | L23: =0.05*(730) -> 36.5 | M23: =L23*G23 -> 328.5 | N23: 0 | O23: =N23*G23 -> 0 | P23: =IF(D23="","",(K23+M23+O23)) -> 16034.085
A24: =IF(E24=0,"",1+MAX(A22:A23)) -> 12 | C24: Toilet Paper Refill Management (Provided By City) | D24: 7 | E24: EA | F24: =IF(VLOOKUP(E24,'UNITS & WASTAGE'!B$3:C$16,2,0)=0,$F$2,VLOOKUP(E24,'UNITS & WASTAGE'!B$3:C$16,2,0)) -> 0 | G24: =(F24*D24)+D24 -> 7 | H24: =0.05*(730) -> 36.5 | I24: 34.15 | J24: =H24*G24 -> 255.5 | K24: =I24*J24 -> 8725.325 | L24: =0.02*(730) -> 14.6 | M24: =L24*G24 -> 102.2 | N24: 0 | O24: =N24*G24 -> 0 | P24: =IF(D24="","",(K24+M24+O24)) -> 8827.525
A25: =IF(E25=0,"",1+MAX(A23:A24)) -> 13 | C25: Sanitary Liner Replacement (Provided By City) | D25: 9 | E25: EA | F25: =IF(VLOOKUP(E25,'UNITS & WASTAGE'!B$3:C$16,2,0)=0,$F$2,VLOOKUP(E25,'UNITS & WASTAGE'!B$3:C$16,2,0)) -> 0 | G25: =(F25*D25)+D25 -> 9 | H25: =0.05*(730) -> 36.5 | I25: 34.15 | J25: =H25*G25 -> 328.5 | K25: =I25*J25 -> 11218.275 | L25: =0.02*(730) -> 14.6 | M25: =L25*G25 -> 131.4 | N25: 0 | O25: =N25*G25 -> 0 | P25: =IF(D25="","",(K25+M25+O25)) -> 11349.675
A26: =IF(E26=0,"",1+MAX(A24:A25)) -> 14 | C26: Soap Refill Management (Provided By City) | D26: 5 | E26: EA | F26: =IF(VLOOKUP(E26,'UNITS & WASTAGE'!B$3:C$16,2,0)=0,$F$2,VLOOKUP(E26,'UNITS & WASTAGE'!B$3:C$16,2,0)) -> 0 | G26: =(F26*D26)+D26 -> 5 | H26: =0.05*(730) -> 36.5 | I26: 34.15 | J26: =H26*G26 -> 182.5 | K26: =I26*J26 -> 6232.375 | L26: =0.02*(730) -> 14.6 | M26: =L26*G26 -> 73 | N26: 0 | O26: =N26*G26 -> 0 | P26: =IF(D26="","",(K26+M26+O26)) -> 6305.375
A27: =IF(E27=0,"",1+MAX(A25:A26)) | C27: Weekly Services | L27: =24 -> 24
A28: =IF(E28=0,"",1+MAX(A26:A27)) -> 15 | C28: Deep Floor Cleaning (Scrubbing & Washing) | D28: 795 | E28: SF | F28: =IF(VLOOKUP(E28,'UNITS & WASTAGE'!B$3:C$16,2,0)=0,$F$2,VLOOKUP(E28,'UNITS & WASTAGE'!B$3:C$16,2,0)) -> 0.1 | G28: =(F28*D28)+D28 -> 874.5 | H28: =0.003*(104) -> 0.312 | I28: 34.15 | J28: =H28*G28 -> 272.844 | K28: =I28*J28 -> 9317.6226 | L28: =0.015*(104) -> 1.56 | M28: =L28*G28 -> 1364.22 | N28: 0 | O28: =N28*G28 -> 0 | P28: =IF(D28="","",(K28+M28+O28)) -> 10681.843
A29: =IF(E29=0,"",1+MAX(A27:A28)) | C29: Monthly Services
A30: =IF(E30=0,"",1+MAX(A28:A29)) -> 16 | C30: Wall Deep Cleaning | D30: 2048 | E30: SF | F30: =IF(VLOOKUP(E30,'UNITS & WASTAGE'!B$3:C$16,2,0)=0,$F$2,VLOOKUP(E30,'UNITS & WASTAGE'!B$3:C$16,2,0)) -> 0.1 | G30: =(F30*D30)+D30 -> 2252.8 | H30: =0.0018*(24) -> 0.0432 | I30: 34.15 | J30: =H30*G30 -> 97.32096 | K30: =I30*J30 -> 3323.5108 | L30: =0.01*(24) -> 0.24 | M30: =L30*G30 -> 540.672 | N30: 0 | O30: =N30*G30 -> 0 | P30: =IF(D30="","",(K30+M30+O30)) -> 3864.1828
A31: =IF(E31=0,"",1+MAX(A29:A30)) -> 17 | C31: Bath Partitions Deep Cleaning | D31: 600 | E31: SF | F31: =IF(VLOOKUP(E31,'UNITS & WASTAGE'!B$3:C$16,2,0)=0,$F$2,VLOOKUP(E31,'UNITS & WASTAGE'!B$3:C$16,2,0)) -> 0.1 | G31: =(F31*D31)+D31 -> 660 | H31: =0.002*(24) -> 0.048 | I31: 34.15 | J31: =H31*G31 -> 31.68 | K31: =I31*J31 -> 1081.872 | L31: =0.012*(24) -> 0.288 | M31: =L31*G31 -> 190.08 | N31: 0 | O31: =N31*G31 -> 0 | P31: =IF(D31="","",(K31+M31+O31)) -> 1271.952
A32: =IF(E32=0,"",1+MAX(A30:A31)) -> 18 | C32: High Level Cleaning (Ceiling, Vent & Lights) | D32: 795 | E32: SF | F32: =IF(VLOOKUP(E32,'UNITS & WASTAGE'!B$3:C$16,2,0)=0,$F$2,VLOOKUP(E32,'UNITS & WASTAGE'!B$3:C$16,2,0)) -> 0.1 | G32: =(F32*D32)+D32 -> 874.5 | H32: =0.0035*(24) -> 0.084 | I32: 34.15 | J32: =H32*G32 -> 73.458 | K32: =I32*J32 -> 2508.5907 | L32: =0.02*(24) -> 0.48 | M32: =L32*G32 -> 419.76 | N32: 0 | O32: =N32*G32 -> 0 | P32: =IF(D32="","",(K32+M32+O32)) -> 2928.3507
A33: =IF(E33=0,"",1+MAX(A31:A32)) -> 19 | C33: Pressure Washing (External Areas) | D33: 1820 | E33: SF | F33: =IF(VLOOKUP(E33,'UNITS & WASTAGE'!B$3:C$16,2,0)=0,$F$2,VLOOKUP(E33,'UNITS & WASTAGE'!B$3:C$16,2,0)) -> 0.1 | G33: =(F33*D33)+D33 -> 2002 | H33: =0.0025*(24) -> 0.06 | I33: 34.15 | J33: =H33*G33 -> 120.12 | K33: =I33*J33 -> 4102.098 | L33: =0.018*(24) -> 0.432 | M33: =L33*G33 -> 864.864 | N33: 0 | O33: =N33*G33 -> 0 | P33: =IF(D33="","",(K33+M33+O33)) -> 4966.962
A34: =IF(E34=0,"",1+MAX(A32:A33)) | C34: Monthly Supplies & Equipment's
A35: =IF(E35=0,"",1+MAX(A33:A34)) -> 20 | C35: Cleaning Chemicals & Disinfectants For Daily, Weekly & Monthly Services As Mentioned Above | D35: 1 | E35: LS | F35: =IF(VLOOKUP(E35,'UNITS & WASTAGE'!B$3:C$16,2,0)=0,$F$2,VLOOKUP(E35,'UNITS & WASTAGE'!B$3:C$16,2,0)) -> 0 | G35: =(F35*D35)+D35 -> 1 | I35: 34.15 | J35: =H35*G35 -> 0 | K35: =I35*J35 -> 0 | L35: =180*(24) -> 4320 | M35: =L35*G35 -> 4320 | N35: 0 | O35: =N35*G35 -> 0 | P35: =IF(D35="","",(K35+M35+O35)) -> 4320
A36: =IF(E36=0,"",1+MAX(A34:A35)) -> 21 | C36: Urinal Screen( 2-Urinal Screens) & Deordering Blocks | D36: 1 | E36: LS | F36: =IF(VLOOKUP(E36,'UNITS & WASTAGE'!B$3:C$16,2,0)=0,$F$2,VLOOKUP(E36,'UNITS & WASTAGE'!B$3:C$16,2,0)) -> 0 | G36: =(F36*D36)+D36 -> 1 | I36: 34.15 | J36: =H36*G36 -> 0 | K36: =I36*J36 -> 0 | L36: =60*(24) -> 1440 | M36: =L36*G36 -> 1440 | N36: 0 | O36: =N36*G36 -> 0 | P36: =IF(D36="","",(K36+M36+O36)) -> 1440
A37: =IF(E37=0,"",1+MAX(A35:A36)) -> 22 | C37: Cleaning Tools & Equipment's (Mops, Brushes, PPE Etc.) For Daily, Weekly & Monthly Services As Mentioned Above | D37: 1 | E37: LS | F37: =IF(VLOOKUP(E37,'UNITS & WASTAGE'!B$3:C$16,2,0)=0,$F$2,VLOOKUP(E37,'UNITS & WASTAGE'!B$3:C$16,2,0)) -> 0 | G37: =(F37*D37)+D37 -> 1 | I37: 34.15 | J37: =H37*G37 -> 0 | K37: =I37*J37 -> 0 | L37: =120*(24) -> 2880 | M37: =L37*G37 -> 2880 | N37: 0 | O37: =N37*G37 -> 0 | P37: =IF(D37="","",(K37+M37+O37)) -> 2880
A38: =IF(E38=0,"",1+MAX(A36:A37)) | C38: Additional/ Contingency
A39: =IF(E39=0,"",1+MAX(A37:A38)) -> 23 | C39: Minor Maintenance (Reporting + Small Fixes) | D39: 1 | E39: LS | F39: =IF(VLOOKUP(E39,'UNITS & WASTAGE'!B$3:C$16,2,0)=0,$F$2,VLOOKUP(E39,'UNITS & WASTAGE'!B$3:C$16,2,0)) -> 0 | G39: =(F39*D39)+D39 -> 1 | H39: 3.375 | I39: 34.15 | J39: =H39*G39 -> 3.375 | K39: =I39*J39 -> 115.25625 | L39: 20 | M39: =L39*G39 -> 20 | N39: 0 | O39: =N39*G39 -> 0 | P39: =IF(D39="","",(K39+M39+O39)) -> 135.25625
A40: =IF(E40=0,"",1+MAX(A38:A39)) -> 24 | C40: Vandalism Cleanup / Emergency Cleaning | D40: 1 | E40: LS | F40: =IF(VLOOKUP(E40,'UNITS & WASTAGE'!B$3:C$16,2,0)=0,$F$2,VLOOKUP(E40,'UNITS & WASTAGE'!B$3:C$16,2,0)) -> 0 | G40: =(F40*D40)+D40 -> 1 | H40: 2.25 | I40: 34.15 | J40: =H40*G40 -> 2.25 | K40: =I40*J40 -> 76.8375 | L40: 25 | M40: =L40*G40 -> 25 | N40: 0 | O40: =N40*G40 -> 0 | P40: =IF(D40="","",(K40+M40+O40)) -> 101.8375
A41: =IF(E41=0,"",1+MAX(#REF!)) | O41: SUBTOTAL | P41: =SUM(P12:P40) -> 430279.8
A43: PROJECTED COST | P43: =SUM(P11:P41)/2 -> 430279.8
A44: OVERHEAD AND PROFIT | O44: 0.2 | P44: =$P$43*O44 -> 86055.96
A45: INSURANCE | O45: 0.03 | P45: =$P$43*O45 -> 12908.394
A46: CONTINGENCY | O46: 0.05 | P46: =$P$43*O46 -> 21513.99
...

Sheet UNITS & WASTAGE
B2: Unit | C2: Wastage
B3: EA | C3: ='[1]BASE BID'!D$11 -> 0
B4: LF | C4: 0.1
B5: SF | C5: 0.1
B6: SY | C6: 0.1
B7: LBS | C7: 0.1
B8: TONS | C8: 0.1
B9: CY | C9: 0.1
B10: LS | C10: ='[1]BASE BID'!D$11 -> 0
B11: SHEETS | C11: ='[1]BASE BID'!D$11 -> 0
B12: ROLLS | C12: ='[1]BASE BID'!D$11 -> 0
