Workbook

Sheet SUMMARY
A2: Project ID:
A4: Address:
A6: No. of Floors:
A8: Building GSF | B8: 22332
A10: DIVISION NO. | B10: DESCRIPTION | C10: TOTAL DIV. COST | D10: TOTAL DIV. COST (PER SF)
A11: 1000 | B11: General Requirements | C11: ='MATERIAL TAKE-OFF'!P19 -> 332934.19 | D11: =C11/$B$8 -> 14.908391
A12: 2000 | B12: Demolition/Site Work | C12: ='MATERIAL TAKE-OFF'!P37 -> 39101.388 | D12: =C12/$B$8 -> 1.750913
A13: 3000 | B13: Concrete | C13: ='MATERIAL TAKE-OFF'!P84 -> 107271.62 | D13: =C13/$B$8 -> 4.8034936
A14: 5000 | B14: Metals | C14: ='MATERIAL TAKE-OFF'!P128 -> 178327.58 | D14: =C14/$B$8 -> 7.9852936
A15: 6000 | B15: Wood, Plastics and Composites | C15: ='MATERIAL TAKE-OFF'!P177 -> 60439.676 | D15: =C15/$B$8 -> 2.7064157
A16: 7000 | B16: Thermal and Moisture Protection | C16: ='MATERIAL TAKE-OFF'!P202 -> 58507.019 | D16: =C16/$B$8 -> 2.6198737
A17: 8000 | B17: Openings | C17: ='MATERIAL TAKE-OFF'!P232 -> 139041.31 | D17: =C17/$B$8 -> 6.2261019
A18: 9000 | B18: Finishes | C18: ='MATERIAL TAKE-OFF'!P640 -> 493976.44 | D18: =C18/$B$8 -> 22.119669
A19: 10000 | B19: Specialties | C19: ='MATERIAL TAKE-OFF'!P656 -> 25655.366 | D19: =C19/$B$8 -> 1.1488163
A20: 11000 | B20: Appliances | C20: ='MATERIAL TAKE-OFF'!P667 -> 29524.54 | D20: =C20/$B$8 -> 1.3220733
A21: 12000 | B21: Furnishes | C21: ='MATERIAL TAKE-OFF'!P691 -> 55611.158 | D21: =C21/$B$8 -> 2.4902005
A22: 22000 | B22: Plumbing | C22: ='MATERIAL TAKE-OFF'!P732 -> 65147.789 | D22: =C22/$B$8 -> 2.9172393
A23: 23000 | B23: HVAC/Mechanical | C23: ='MATERIAL TAKE-OFF'!P805 -> 256201.35 | D23: =C23/$B$8 -> 11.472387
A24: 26000 | B24: Electrical | C24: ='MATERIAL TAKE-OFF'!P884 -> 263997.56 | D24: =C24/$B$8 -> 11.821492
A25: 31000 | B25: Earthwork | C25: ='MATERIAL TAKE-OFF'!P891 -> 745396.46 | D25: =C25/$B$8 -> 33.377953
A26: 32000 | B26: Exterior Improvement | C26: ='MATERIAL TAKE-OFF'!P997 -> 745150.32 | D26: =C26/$B$8 -> 33.366932
A27: 33000 | B27: Utilities | C27: ='MATERIAL TAKE-OFF'!P1018 -> 58003.205 | D27: =C27/$B$8 -> 2.5973135
A28: PROJECTED COST | C28: =SUM(C11:C27) -> 3654287 | D28: =SUM(D11:D27) -> 163.63456
A30: OVERHEAD AND PROFIT | B30: 0.2 | C30: =$C$28*B30 -> 730857.39 | D30: =$D$28*B30 -> 32.726912
A31: INSURANCE | B31: 0.03 | C31: =$C$28*B31 -> 109628.61 | D31: =$D$28*B31 -> 4.9090368
A32: CONTINGENCY | B32: 0.05 | C32: =$C$28*B32 -> 182714.35 | D32: =$D$28*B32 -> 8.1817279
A33: SUGGESTED BASE BID | C33: =SUM(C28:C32) -> 4677487.3 | D33: =SUM(D28:D32) -> 209.45224

Sheet MATERIAL TAKE-OFF
A3: Project: | B3: =SUMMARY!B2 -> 0
A5: Address: | B5: =SUMMARY!B4 -> 0
A7: Scope: | B7: FULL SCOPE
A9: Date: | B9: =TODAY() -> 46050
A10: SR # | B10: REF | C10: DESCRIPTION | D10: QUANTITY | E10: UNIT | F10: WASTAGE | G10: QUANTITY W/ WASTAGE | H10: LABOR HOURS | I10: WAGES | J10: TOTAL LABOR HOUR | K10: TOTAL LABOUR COST | L10: MATERIAL RATE | M10: TOTAL MATETRIAL COST | N10: EQUIPMENT RATE | O10: TOTAL EQUIPMENT COSTS | P10: SUB COST
B11: 01. GENERAL REQUIREMENTS
A12: 1 | C12: Supervision and Coordination | D12: 1 | E12: LS | F12: 0 | G12: =(F12*D12)+D12 -> 1 | H12: =2%*$Q$12/I12 -> 714.22116 | I12: 93.23 | J12: =H12*G12 -> 714.22116 | K12: =I12*J12 -> 66586.839 | L12: 0 | M12: =L12*G12 -> 0 | N12: 0 | O12: =N12*G12 -> 0 | P12: =IF(D12="","",(K12+M12+O12)) -> 66586.839 | Q12: =SUM(P22:P1018)/2 -> 3329341.9
A13: =A12+1 -> 2 | C13: Submittals and Shop drawings | D13: 1 | E13: LS | F13: 0 | G13: =(F13*D13)+D13 -> 1 | H13: =1.65%*$Q$12/I13 -> 589.23246 | I13: 93.23 | J13: =H13*G13 -> 589.23246 | K13: =I13*J13 -> 54934.142 | L13: 0 | M13: =L13*G13 -> 0 | N13: 0 | O13: =N13*G13 -> 0 | P13: =IF(D13="","",(K13+M13+O13)) -> 54934.142
A14: =A13+1 -> 3 | C14: Final Cleaning | D14: 1 | E14: LS | F14: 0 | G14: =(F14*D14)+D14 -> 1 | H14: =0.85%*$Q$12/I14 -> 303.54399 | I14: 93.23 | J14: =H14*G14 -> 303.54399 | K14: =I14*J14 -> 28299.406 | L14: 0 | M14: =L14*G14 -> 0 | N14: 0 | O14: =N14*G14 -> 0 | P14: =IF(D14="","",(K14+M14+O14)) -> 28299.406
A15: =A14+1 -> 4 | C15: Mobilization Costs | D15: 1 | E15: LS | F15: 0 | G15: =(F15*D15)+D15 -> 1 | H15: =2.02%*$Q$12/I15 -> 721.36337 | I15: 93.23 | J15: =H15*G15 -> 721.36337 | K15: =I15*J15 -> 67252.707 | L15: 0 | M15: =L15*G15 -> 0 | N15: 0 | O15: =N15*G15 -> 0 | P15: =IF(D15="","",(K15+M15+O15)) -> 67252.707
A16: =A15+1 -> 5 | C16: Bond @ 2% | D16: 1 | E16: LS | F16: 0 | G16: =(F16*D16)+D16 -> 1 | H16: =2%*$Q$12/I16 -> 714.22116 | I16: 93.23 | J16: =H16*G16 -> 714.22116 | K16: =I16*J16 -> 66586.839 | L16: 0 | M16: =L16*G16 -> 0 | N16: 0 | O16: =N16*G16 -> 0 | P16: =IF(D16="","",(K16+M16+O16)) -> 66586.839
A17: =A16+1 -> 6 | C17: Temporary Control & Facilities | D17: 1 | E17: LS | F17: 0 | G17: =(F17*D17)+D17 -> 1 | H17: =0.98%*$Q$12/I17 -> 349.96837 | I17: 93.23 | J17: =H17*G17 -> 349.96837 | K17: =I17*J17 -> 32627.551 | L17: 0 | M17: =L17*G17 -> 0 | N17: 0 | O17: =N17*G17 -> 0 | P17: =IF(D17="","",(K17+M17+O17)) -> 32627.551
A18: =A17+1 -> 7 | C18: Scaffolding | D18: 1 | E18: LS | F18: 0 | G18: =(F18*D18)+D18 -> 1 | H18: =0.5%*$Q$12/I18 -> 178.55529 | I18: 93.23 | J18: =H18*G18 -> 178.55529 | K18: =I18*J18 -> 16646.71 | L18: 0 | M18: =L18*G18 -> 0 | N18: 0 | O18: =N18*G18 -> 0 | P18: =IF(D18="","",(K18+M18+O18)) -> 16646.71
A19: =IF(E19=0,"",1+MAX(A13:A18)) | O19: SUBTOTAL | P19: =SUM(P12:P18) -> 332934.19
A20: =IF(E20=0,"",1+MAX(A14:A19))
A21: =IF(E21=0,"",1+MAX(A15:A20)) | B21: 02. EXISTING CONDITIONS/SITE WORK
A22: =IF(E22=0,"",1+MAX(A20:A21)) | C22: MEP Demolition
A23: =IF(D23=0,"",1+MAX(A$12:A22)) -> 8 | C23: Remove 200W Parking Lot Pole Light | D23: 10 | E23: EA | F23: 0 | G23: =(F23*D23)+D23 -> 10 | H23: 3.951 | I23: 55.79 | J23: =H23*G23 -> 39.51 | K23: =I23*J23 -> 2204.2629 | M23: =L23*G23 -> 0 | N23: 0 | O23: =N23*G23 -> 0 | P23: =IF(D23="","",(K23+M23+O23)) -> 2204.2629
A24: =IF(D24=0,"",1+MAX(A$12:A23)) -> 9 | C24: Remove Existing Pole Lights. | D24: 13 | E24: EA | F24: 0 | G24: =(F24*D24)+D24 -> 13 | H24: 3.578 | I24: 55.79 | J24: =H24*G24 -> 46.514 | K24: =I24*J24 -> 2595.0161 | M24: =L24*G24 -> 0 | N24: 0 | O24: =N24*G24 -> 0 | P24: =IF(D24="","",(K24+M24+O24)) -> 2595.0161
A25: =IF(D25=0,"",1+MAX(A$12:A24)) -> 10 | C25: Remove Existing Lighting Circuit For Parking Pole Lights | D25: 2 | E25: EA | F25: 0 | G25: =(F25*D25)+D25 -> 2 | H25: 4.312 | I25: 55.79 | J25: =H25*G25 -> 8.624 | K25: =I25*J25 -> 481.13296 | M25: =L25*G25 -> 0 | N25: 0 | O25: =N25*G25 -> 0 | P25: =IF(D25="","",(K25+M25+O25)) -> 481.13296
A26: =IF(E26=0,"",1+MAX(A22:A24)) | C26: Site Demolition
A27: =IF(D27=0,"",1+MAX(A$12:A26)) -> 11 | C27: Removed Existing Monument Sign | D27: 1 | E27: EA | F27: 0 | G27: =(F27*D27)+D27 -> 1 | H27: 6.984 | I27: 66.94 | J27: =H27*G27 -> 6.984 | K27: =I27*J27 -> 467.50896 | M27: =L27*G27 -> 0 | N27: 0 | O27: =N27*G27 -> 0 | P27: =IF(D27="","",(K27+M27+O27)) -> 467.50896
A28: =IF(D28=0,"",1+MAX(A$12:A27)) -> 12 | C28: Remove Existing Accessible Parking Signs, Retain for Relocations in New Plan. | D28: 4 | E28: EA | F28: 0 | G28: =(F28*D28)+D28 -> 4 | H28: 0.5 | I28: 66.94 | J28: =H28*G28 -> 2 | K28: =I28*J28 -> 133.88 | M28: =L28*G28 -> 0 | N28: 0 | O28: =N28*G28 -> 0 | P28: =IF(D28="","",(K28+M28+O28)) -> 133.88
A29: =IF(D29=0,"",1+MAX(A$12:A28)) -> 13 | C29: Removed Existing Tree | D29: 8 | E29: EA | F29: 0 | G29: =(F29*D29)+D29 -> 8 | H29: 5.512 | I29: 66.94 | J29: =H29*G29 -> 44.096 | K29: =I29*J29 -> 2951.7862 | M29: =L29*G29 -> 0 | N29: 0 | O29: =N29*G29 -> 0 | P29: =IF(D29="","",(K29+M29+O29)) -> 2951.7862
A30: =IF(D30=0,"",1+MAX(A$12:A29)) -> 14 | C30: Removed Existing Handicapped Signage | D30: 6 | E30: EA | F30: 0 | G30: =(F30*D30)+D30 -> 6 | H30: 0.75 | I30: 66.94 | J30: =H30*G30 -> 4.5 | K30: =I30*J30 -> 301.23 | M30: =L30*G30 -> 0 | N30: 0 | O30: =N30*G30 -> 0 | P30: =IF(D30="","",(K30+M30+O30)) -> 301.23
A31: =IF(D31=0,"",1+MAX(A$12:A30)) -> 15 | C31: Removed Existing Landscaping or Hardscape | D31: 2644.75 | E31: SF | F31: 0 | G31: =(F31*D31)+D31 -> 2644.75 | H31: 0.05 | I31: 66.94 | J31: =H31*G31 -> 132.2375 | K31: =I31*J31 -> 8851.9783 | M31: =L31*G31 -> 0 | N31: 0 | O31: =N31*G31 -> 0 | P31: =IF(D31="","",(K31+M31+O31)) -> 8851.9783
A32: =IF(D32=0,"",1+MAX(A$12:A31)) -> 16 | C32: Removed Existing Asphalt Pavement | D32: 4341.7 | E32: SF | F32: 0 | G32: =(F32*D32)+D32 -> 4341.7 | H32: 0.018 | I32: 66.94 | J32: =H32*G32 -> 78.1506 | K32: =I32*J32 -> 5231.4012 | M32: =L32*G32 -> 0 | N32: 0 | O32: =N32*G32 -> 0 | P32: =IF(D32="","",(K32+M32+O32)) -> 5231.4012
A33: =IF(D33=0,"",1+MAX(A$12:A32)) -> 17 | C33: Removed Existing Hardscape | D33: 391.1 | E33: SF | F33: 0 | G33: =(F33*D33)+D33 -> 391.1 | H33: 0.085 | I33: 66.94 | J33: =H33*G33 -> 33.2435 | K33: =I33*J33 -> 2225.3199 | M33: =L33*G33 -> 0 | N33: 0 | O33: =N33*G33 -> 0 | P33: =IF(D33="","",(K33+M33+O33)) -> 2225.3199
A34: =IF(D34=0,"",1+MAX(A$12:A33)) -> 18 | C34: Kn#24: Removed Existing Improvements | D34: 4274.52 | E34: SF | F34: 0 | G34: =(F34*D34)+D34 -> 4274.52 | H34: 0.025 | I34: 66.94 | J34: =H34*G34 -> 106.863 | K34: =I34*J34 -> 7153.4092 | M34: =L34*G34 -> 0 | N34: 0 | O34: =N34*G34 -> 0 | P34: =IF(D34="","",(K34+M34+O34)) -> 7153.4092
A35: =IF(D35=0,"",1+MAX(A$12:A34)) -> 19 | C35: Removed Existing Asphalt Striping - Surface Recoated, Sealed & Prepared for New Striping, Except Where Indicated. | D35: 2134.53 | E35: LF | F35: 0 | G35: =(F35*D35)+D35 -> 2134.53 | H35: 0.035 | I35: 66.94 | J35: =H35*G35 -> 74.70855 | K35: =I35*J35 -> 5000.9903 | M35: =L35*G35 -> 0 | N35: 0 | O35: =N35*G35 -> 0 | P35: =IF(D35="","",(K35+M35+O35)) -> 5000.9903
A36: =IF(D36=0,"",1+MAX(A$12:A35)) -> 20 | C36: Removed Existing Vinyl Fence & Gates | D36: 112.3 | E36: LF | F36: 0 | G36: =(F36*D36)+D36 -> 112.3 | H36: 0.2 | I36: 66.94 | J36: =H36*G36 -> 22.46 | K36: =I36*J36 -> 1503.4724 | M36: =L36*G36 -> 0 | N36: 0 | O36: =N36*G36 -> 0 | P36: =IF(D36="","",(K36+M36+O36)) -> 1503.4724
A37: =IF(E37=0,"",1+MAX(A23:A36)) | O37: SUBTOTAL | P37: =SUM(P22:P36) -> 39101.388
A38: =IF(E38=0,"",1+MAX(A24:A37))
A39: =IF(E39=0,"",1+MAX(A26:A38)) | B39: 03. CONCRETE
A40: =IF(E40=0,"",1+MAX(A27:A39)) | C40: Footings
A41: =IF(D41=0,"",1+MAX(A$12:A40)) | C41: Pad Footing
A42: =IF(D42=0,"",1+MAX(A$12:A41)) -> 21 | C42: F3.0: (3'-0" w x 3'-0" L x 1'-6" H) Concrete Pad Footing Reinf. w/_x000D_ - (3) #5 EW T&B Bars | D42: =(1*(3*3*1.5))/27 -> 0.5 | E42: CY | F42: 0.1 | G42: =(F42*D42)+D42 -> 0.55 | H42: 4.59 | I42: 76.58 | J42: =H42*G42 -> 2.5245 | K42: =I42*J42 -> 193.32621 | L42: 355 | M42: =L42*G42 -> 195.25 | N42: 0 | O42: =N42*G42 -> 0 | P42: =IF(D42="","",(K42+M42+O42)) -> 388.57621
A43: =IF(D43=0,"",1+MAX(A$12:A42)) -> 22 | C43: Formwork | D43: =(1*(3*1.5)*4) -> 18 | E43: SF | F43: 0.1 | G43: =(F43*D43)+D43 -> 19.8 | H43: 0.045 | I43: 76.58 | J43: =H43*G43 -> 0.891 | K43: =I43*J43 -> 68.23278 | M43: =L43*G43 -> 0 | N43: 0 | O43: =N43*G43 -> 0 | P43: =IF(D43="","",(K43+M43+O43)) -> 68.23278
A44: =IF(D44=0,"",1+MAX(A$12:A43)) -> 23 | C44: Excavation | D44: =D42*1.2 -> 0.6 | E44: CY | F44: 0.1 | G44: =(F44*D44)+D44 -> 0.66 | H44: 0.5 | I44: 76.58 | J44: =H44*G44 -> 0.33 | K44: =I44*J44 -> 25.2714 | M44: =L44*G44 -> 0 | N44: 0 | O44: =N44*G44 -> 0 | P44: =IF(D44="","",(K44+M44+O44)) -> 25.2714
A45: =IF(D45=0,"",1+MAX(A$12:A44))
...
